BEGIN:VCALENDAR
VERSION:2.0
PRODID:-//WP EVENT Manager Ical//NONSGML Events//EN
CALSCALE:GREGORIAN
BEGIN:VTIMEZONE
TZID:Asia/Kolkata
BEGIN:STANDARD
DTSTART:19700101T000000
TZOFFSETFROM:+0530
TZOFFSETTO:+0530
END:STANDARD
END:VTIMEZONE
BEGIN:VEVENT
UID:69e63bd327341@nva-nb.nl
DTSTAMP:20260420T144435Z
DTSTART;TZID=Asia/Kolkata:20260518T193000
DTEND;TZID=Asia/Kolkata:20260518T210000
LOCATION:eindhoven
SUMMARY:AIC Eindhoven Deelgenotencontact op 18 mei – Ouders van een volwassen kind met autisme
DESCRIPTION:Het Autisme Informatie Centrum (AIC) Eindhoven is een onderdeel van de Nederlandse Vereniging voor Autisme (NVA). Het AIC organiseert regelmatig ontmoetingsavonden voor ouders die een volwasen kind (18+) hebben met autisme.&nbsp;Ook als een kind met autisme volwassen is, blijven er vaak zorgen. Soms woont het kind zelfstandig,soms ook (nog) niet. Als ouder krijg je een andere rol als je kind meerderjarig is; het is immers volwassen. Welke dingen kan je kind zelfstandig? Wanneer moet je als ouder hulp bieden? Hoe en waar kan je je zorgen over je kind uiten? Hoe laat je een kind met autisme, ondanks alle uitdagingen, toch zoveel mogelijk los?&nbsp;Met elkaar gaan we hierover in gesprek. Het is fijn om ervaringen te kunnen delen, herkenning te vinden bij elkaar en tips uit te wisselen. Er is volop ruimte voor eigen inbreng en het stellen van vragen.&nbsp;We starten de bijeenkomst met een korte voorstelronde en invulling van de vraag: “wat hoop je aan het einde van de avond mee te nemen?”. Vanuit deze inventarisatie bepalen we samen de verdere inhoud van het gesprek.&nbsp;De bijeenkomst wordt begeleid door vrijwilligers die vanuit hun eigen achtergrond te maken hebben met autisme in het gezin. De bijeenkomsten zijn laagdrempelig en je kunt per keer bekijken of je wilt aansluiten. Heb je vragen, dan kun je mailen naar&nbsp;coordinatoreindhoven@nva-nb.nl.&nbsp;Je bent van harte welkom!Aanmelden alleen mogelijk via de website in verband met een juiste registratie.Wanneer zijn er activiteiten?Kijk hiervoor op onze website www.nva-nb.nlLocatie:Wijkhuis de Dommel &#8211;&#8220;Verdiruimte&#8221;Bennekelstraat 1315654 DD EindhovenDatum en tijd:Maandag 18-5-2026Aanvang: 19.30uEindtijd: 21.00uDeuren open: 19.20uKosten: n.v.t.Aantal plaatsen: 8Inschrijven voor: 15 mei 16.00u
END:VEVENT
END:VCALENDAR